BEGIN:VCALENDAR
VERSION:2.0
PRODID:-//SchÃ¶ner Trinken - Weinhandlung Suff - ECPv4.9.9//NONSGML v1.0//EN
CALSCALE:GREGORIAN
METHOD:PUBLISH
X-WR-CALNAME:SchÃ¶ner Trinken - Weinhandlung Suff
X-ORIGINAL-URL:https://suffberlin.de
X-WR-CALDESC:Veranstaltungen im SchÃ¶ner Trinken - Weinhandlung Suff
BEGIN:VTIMEZONE
TZID:Europe/Berlin
BEGIN:DAYLIGHT
TZOFFSETFROM:+0100
TZOFFSETTO:+0200
TZNAME:CEST
DTSTART:20230326T010000
END:DAYLIGHT
BEGIN:STANDARD
TZOFFSETFROM:+0200
TZOFFSETTO:+0100
TZNAME:CET
DTSTART:20231029T010000
END:STANDARD
END:VTIMEZONE
BEGIN:VEVENT
DTSTART;TZID=Europe/Berlin:20230311T183000
DTEND;TZID=Europe/Berlin:20230311T210000
DTSTAMP:20260419T193214
CREATED:20230208T164911Z
LAST-MODIFIED:20230303T173959Z
UID:2833-1678559400-1678568400@suffberlin.de
SUMMARY:50 Shades of Red in KREUZBERG
DESCRIPTION:Die Tage sind kurz\, die BÃ¤ume sind kahl und die Temperatur ist schon immer noch frisch. Vielleicht ist es Zeit etwas Rotweine wieder rauszuholen?\nDu magst Rotwein und hast Lust ihm auf alle seine Aspekte zu erleben ?\nDann kommt vorbei\, Rot wird buntes! \nTICKETS \nSuffkopp Andreas \nMax. 12 Teilnehmende pro Abend. Die Veranstaltungen finden ab 6 Teilnehmenden statt. Ãœbertragung mÃ¶glich. FÃ¼r Teilnehmende am jeweiligen Abend 8% Rabatt auf das gesamte Sortiment. \n!! Bitte beachte\, dass im Falle einer Stornierung 14 Tage oder weniger vor der Veranstaltung keine RÃ¼ckerstattung oder Umwandlung der Tickets mÃ¶glich ist. Wir danken fÃ¼r Dein VerstÃ¤ndnis. \n  \n
URL:https://suffberlin.de/event/50-shades-of-red-in-kreuzberg-3/
CATEGORIES:Veranstaltung,Weinseminar
ATTACH;FMTTYPE=image/jpeg:https://suffberlin.de/wp-content/uploads/2020/04/Weingut-mathias-gaul.jpg
END:VEVENT
END:VCALENDAR