BEGIN:VCALENDAR
VERSION:2.0
PRODID:-//Schöner Trinken - Weinhandlung Suff - ECPv4.9.9//NONSGML v1.0//EN
CALSCALE:GREGORIAN
METHOD:PUBLISH
X-WR-CALNAME:Schöner Trinken - Weinhandlung Suff
X-ORIGINAL-URL:https://suffberlin.de
X-WR-CALDESC:Veranstaltungen im Schöner Trinken - Weinhandlung Suff
BEGIN:VTIMEZONE
TZID:Europe/Berlin
BEGIN:DAYLIGHT
TZOFFSETFROM:+0100
TZOFFSETTO:+0200
TZNAME:CEST
DTSTART:20230326T010000
END:DAYLIGHT
BEGIN:STANDARD
TZOFFSETFROM:+0200
TZOFFSETTO:+0100
TZNAME:CET
DTSTART:20231029T010000
END:STANDARD
END:VTIMEZONE
BEGIN:VEVENT
DTSTART;TZID=Europe/Berlin:20230309T201500
DTEND;TZID=Europe/Berlin:20230309T223000
DTSTAMP:20260419T162209
CREATED:20221130T171601Z
LAST-MODIFIED:20230303T173807Z
UID:2706-1678392900-1678401000@suffberlin.de
SUMMARY:NOCH 6 PLÄTZE FREI! 50 Shades of White in KREUZBERG
DESCRIPTION:\n\nWeiss\, hellweiss\, dunkelweiss\, maceration weiss\, orange&#8230; Du magst Weisswein und hast lußt ihm auf alle seine Aspekte zu erleben ? \nDann kommt vorbei\, Weiss wird buntes! \nSuffkop Eric \nTICKETS \nMax. 12 Teilnehmende pro Abend. Die Veranstaltungen finden ab 6 Teilnehmenden statt. Übertragung möglich. Für Teilnehmende am jeweiligen Abend 8% Rabatt auf das gesamte Sortiment. \n!! Bitte beachte\, dass im Falle einer Stornierung 14 Tage oder weniger vor der Veranstaltung keine Rückerstattung oder Umwandlung der Tickets möglich ist. Wir danken für Dein Verständnis. \n\n\n
URL:https://suffberlin.de/event/50-shades-of-white-3/
LOCATION:Weinhandlung Suff\, Oranienstraße 200\, Berlin\, Berlin\, 10999\, Deutschland
END:VEVENT
END:VCALENDAR