BEGIN:VCALENDAR
VERSION:2.0
PRODID:-//Schöner Trinken - Weinhandlung Suff - ECPv4.9.9//NONSGML v1.0//EN
CALSCALE:GREGORIAN
METHOD:PUBLISH
X-WR-CALNAME:Schöner Trinken - Weinhandlung Suff
X-ORIGINAL-URL:https://suffberlin.de
X-WR-CALDESC:Veranstaltungen im Schöner Trinken - Weinhandlung Suff
BEGIN:VTIMEZONE
TZID:Europe/Berlin
BEGIN:DAYLIGHT
TZOFFSETFROM:+0100
TZOFFSETTO:+0200
TZNAME:CEST
DTSTART:20260329T010000
END:DAYLIGHT
BEGIN:STANDARD
TZOFFSETFROM:+0200
TZOFFSETTO:+0100
TZNAME:CET
DTSTART:20261025T010000
END:STANDARD
END:VTIMEZONE
BEGIN:VEVENT
DTSTART;TZID=Europe/Berlin:20260514T180000
DTEND;TZID=Europe/Berlin:20260514T220000
DTSTAMP:20260420T161750
CREATED:20260418T125403Z
LAST-MODIFIED:20260418T125403Z
UID:4514-1778781600-1778796000@suffberlin.de
SUMMARY:KEBAB & WEIN
DESCRIPTION:KEBAB & WEIN \nHabt ihr schon mal Wein und Kebab probiert? Wir machen es zusammen mit Noa the Sommelier. Es wird verschiedene Kebab-Varianten geben und verschiedene Weine zum Probieren: Orange Wine\, Bubbles\, Rot oder Weiß. Am Ende wissen wir mehr! \nDo. 14.05 \nab 18:00 Uhr \n39€ pro Person \n
URL:https://suffberlin.de/event/kebab-wein/
LOCATION:Die Wein aka Die WeinBar SUFF (Pop-up)\, Nollendorfstr. 15\, Berlin\, Berlin\, 10777\, Deutschland
CATEGORIES:Veranstaltung,Weinseminar
ATTACH;FMTTYPE=image/jpeg:https://suffberlin.de/wp-content/uploads/2026/04/KebabEventBild2.jpg
END:VEVENT
END:VCALENDAR