BEGIN:VCALENDAR
VERSION:2.0
PRODID:-//Schöner Trinken - Weinhandlung Suff - ECPv4.9.9//NONSGML v1.0//EN
CALSCALE:GREGORIAN
METHOD:PUBLISH
X-WR-CALNAME:Schöner Trinken - Weinhandlung Suff
X-ORIGINAL-URL:https://suffberlin.de
X-WR-CALDESC:Veranstaltungen im Schöner Trinken - Weinhandlung Suff
BEGIN:VTIMEZONE
TZID:Europe/Berlin
BEGIN:DAYLIGHT
TZOFFSETFROM:+0100
TZOFFSETTO:+0200
TZNAME:CEST
DTSTART:20190331T010000
END:DAYLIGHT
BEGIN:STANDARD
TZOFFSETFROM:+0200
TZOFFSETTO:+0100
TZNAME:CET
DTSTART:20191027T010000
END:STANDARD
END:VTIMEZONE
BEGIN:VEVENT
DTSTART;TZID=Europe/Berlin:20191130T190000
DTEND;TZID=Europe/Berlin:20191130T213000
DTSTAMP:20260421T084640
CREATED:20190801T150708Z
LAST-MODIFIED:20191126T115146Z
UID:1545-1575140400-1575149400@suffberlin.de
SUMMARY:Kreiere Deinen eigenen Rotwein- nur noch 2 Plätze frei!!
DESCRIPTION:Wein mal ganz anders: wir &#8222;spielen&#8220; einen Abend lang Winzer und kreieren unsere eigene Rotwein-Cuvée!\nDazu verkosten wir mehrere Weine und versuchen dann einen neuen harmonischen Rotwein herzustellen. Für alle\, die sich auch mal austoben wollen und sich ihren Lieblingswein einfach selber machen möchten! Jeder darf am Ende eine kleine Flasche seiner eigenen Cuvée mit nach Hause nehmen. Keine Vorkenntnisse erforderlich! \nSuffkopp jeanine \n30 € pro Person \n
URL:https://suffberlin.de/event/kreiere-deinen-eigenen-rotwein-3/
LOCATION:Weinhandlung Suff\,  Oranienstraße 200\, Berlin\, Berlin\, 10999\, Deutschland
CATEGORIES:Weinseminar
ATTACH;FMTTYPE=image/jpeg:https://suffberlin.de/wp-content/uploads/2018/11/Weinseminar_Cuvee_Suff_20180602_FASchaap_065.jpg
END:VEVENT
END:VCALENDAR