BEGIN:VCALENDAR
VERSION:2.0
PRODID:-//Schöner Trinken - Weinhandlung Suff - ECPv4.9.9//NONSGML v1.0//EN
CALSCALE:GREGORIAN
METHOD:PUBLISH
X-WR-CALNAME:Schöner Trinken - Weinhandlung Suff
X-ORIGINAL-URL:https://suffberlin.de
X-WR-CALDESC:Veranstaltungen im Schöner Trinken - Weinhandlung Suff
BEGIN:VTIMEZONE
TZID:Europe/Berlin
BEGIN:DAYLIGHT
TZOFFSETFROM:+0100
TZOFFSETTO:+0200
TZNAME:CEST
DTSTART:20230326T010000
END:DAYLIGHT
BEGIN:STANDARD
TZOFFSETFROM:+0200
TZOFFSETTO:+0100
TZNAME:CET
DTSTART:20231029T010000
END:STANDARD
END:VTIMEZONE
BEGIN:VEVENT
DTSTART;TZID=Europe/Berlin:20230314T080000
DTEND;TZID=Europe/Berlin:20230314T170000
DTSTAMP:20260419T195227
CREATED:20230314T182319Z
LAST-MODIFIED:20230314T183055Z
UID:2883-1678780800-1678813200@suffberlin.de
SUMMARY:Sekt\, Crémant und was sonst noch blubbert in KREUZBERG
DESCRIPTION:Was gibt es schöneres als eine Flasche Schaumwein? Klar\, zwei Flaschen Schaumwein. Aber was unterscheidet denn eigentlich einen deutschen Sekt von einem spanischen Cava oder einem französischen Crémant. Und wer weiß\, vielleicht widmen wir uns am Ende auch dem König der Schaumweine\, dem Champagner. Eins ist sicher…es wird prickelnd. \nSuffkopp Sophie \nTICKETS \nMax. 12 Teilnehmende pro Abend. Die Veranstaltungen finden ab 6 Teilnehmenden statt. Übertragung möglich. Für Teilnehmende am jeweiligen Abend 8% Rabatt auf das gesamte Sortiment. \n!! Bitte beachte\, dass im Falle einer Stornierung 14 Tage oder weniger vor der Veranstaltung keine Rückerstattung oder Umwandlung der Tickets möglich ist. Wir danken für Dein Verständnis \n
URL:https://suffberlin.de/event/sekt-cremant-und-was-sonst-noch-blubbert-in-kreuzberg-6/
END:VEVENT
END:VCALENDAR