BEGIN:VCALENDAR
VERSION:2.0
PRODID:-//Schöner Trinken - Weinhandlung Suff - ECPv4.9.9//NONSGML v1.0//EN
CALSCALE:GREGORIAN
METHOD:PUBLISH
X-WR-CALNAME:Schöner Trinken - Weinhandlung Suff
X-ORIGINAL-URL:https://suffberlin.de
X-WR-CALDESC:Veranstaltungen im Schöner Trinken - Weinhandlung Suff
BEGIN:VTIMEZONE
TZID:Europe/Berlin
BEGIN:DAYLIGHT
TZOFFSETFROM:+0100
TZOFFSETTO:+0200
TZNAME:CEST
DTSTART:20220327T010000
END:DAYLIGHT
BEGIN:STANDARD
TZOFFSETFROM:+0200
TZOFFSETTO:+0100
TZNAME:CET
DTSTART:20221030T010000
END:STANDARD
END:VTIMEZONE
BEGIN:VEVENT
DTSTART;TZID=Europe/Berlin:20220721T201500
DTEND;TZID=Europe/Berlin:20220721T223000
DTSTAMP:20260422T215913
CREATED:20220414T152135Z
LAST-MODIFIED:20220705T141509Z
UID:2452-1658434500-1658442600@suffberlin.de
SUMMARY:AUSGEBUCHT - Tour de France
DESCRIPTION:Lust bei der Tour de France aus den Kiez mitzumachen ? Coach Sophie bereitet für euch eine einzigartige Tour vor. Es handelt sich natürlich mehr um Wein & Rebsorten als isotonisches Getränk + Bananenbiss. Loire\, Rhônetal\, Bourgogne\, Jura\,&#8230; Wo liegt der Unterschied zwischen alle diese Weinregionen ? Was ist eingendlich ein Crémant? Nehmt teil\, um ein enspanntes Abend und Französische Terroirweine zu erleben. \nTICKETS \n
URL:https://suffberlin.de/event/tour-de-france-2/
LOCATION:Weinhandlung Suff\, Oranienstraße 200\, Berlin\, Berlin\, 10999\, Deutschland
CATEGORIES:Veranstaltung,Weinseminar
ATTACH;FMTTYPE=image/jpeg:https://suffberlin.de/wp-content/uploads/2019/10/SUFF_Shoot_-23.jpg
END:VEVENT
END:VCALENDAR