BEGIN:VCALENDAR
VERSION:2.0
PRODID:-//Schöner Trinken - Weinhandlung Suff - ECPv4.9.9//NONSGML v1.0//EN
CALSCALE:GREGORIAN
METHOD:PUBLISH
X-WR-CALNAME:Schöner Trinken - Weinhandlung Suff
X-ORIGINAL-URL:https://suffberlin.de
X-WR-CALDESC:Veranstaltungen im Schöner Trinken - Weinhandlung Suff
BEGIN:VTIMEZONE
TZID:Europe/Berlin
BEGIN:DAYLIGHT
TZOFFSETFROM:+0100
TZOFFSETTO:+0200
TZNAME:CEST
DTSTART:20230326T010000
END:DAYLIGHT
BEGIN:STANDARD
TZOFFSETFROM:+0200
TZOFFSETTO:+0100
TZNAME:CET
DTSTART:20231029T010000
END:STANDARD
END:VTIMEZONE
BEGIN:VEVENT
DTSTART;TZID=Europe/Berlin:20230330T201500
DTEND;TZID=Europe/Berlin:20230330T223000
DTSTAMP:20260420T034926
CREATED:20221130T175624Z
LAST-MODIFIED:20230314T172608Z
UID:2712-1680207300-1680215400@suffberlin.de
SUMMARY:NOCH 10 PLÄTZE FREI !! Einsteiger Abend in KREUZBERG
DESCRIPTION:Hier kannst Du ganz entspannt dem Thema Wein begegnen. Wir verkosten gemeinsam weiße und rote Klassiker aus Europa. Dabei lernen wir\, Weine zu beschreiben\, die wichtigsten Rebsorten und ihre Eigenschaften sowie Allgemeinwissen über Wein. Vor allem wird es aber ein unkomplizierter Abend werden\, an dem jeder auch mal fragen kann\, was er sich sonst nicht zu fragen traut. \nSuffkopp Eric \nTICKETS \nMax. 12 Teilnehmende pro Abend. Die Veranstaltungen finden ab 6 Teilnehmenden statt. Übertragung möglich. Für Teilnehmende am jeweiligen Abend 8% Rabatt auf das gesamte Sortiment. \n!! Bitte beachte\, dass im Falle einer Stornierung 14 Tage oder weniger vor der Veranstaltung keine Rückerstattung oder Umwandlung der Tickets möglich ist. Wir danken für Dein Verständnis. \n
URL:https://suffberlin.de/event/was-ist-eigentlich-ein-natur-wein-in-kreuzberg-2/
LOCATION:Weinhandlung Suff\, Oranienstraße 200\, Berlin\, Berlin\, 10999\, Deutschland
CATEGORIES:Weinseminar
ATTACH;FMTTYPE=image/jpeg:https://suffberlin.de/wp-content/uploads/2019/10/SUFF_Shoot_-23.jpg
END:VEVENT
END:VCALENDAR