BEGIN:VCALENDAR
VERSION:2.0
PRODID:-//Schöner Trinken - Weinhandlung Suff - ECPv4.9.9//NONSGML v1.0//EN
CALSCALE:GREGORIAN
METHOD:PUBLISH
X-WR-CALNAME:Schöner Trinken - Weinhandlung Suff
X-ORIGINAL-URL:https://suffberlin.de
X-WR-CALDESC:Veranstaltungen im Schöner Trinken - Weinhandlung Suff
BEGIN:VTIMEZONE
TZID:Europe/Berlin
BEGIN:DAYLIGHT
TZOFFSETFROM:+0100
TZOFFSETTO:+0200
TZNAME:CEST
DTSTART:20230326T010000
END:DAYLIGHT
BEGIN:STANDARD
TZOFFSETFROM:+0200
TZOFFSETTO:+0100
TZNAME:CET
DTSTART:20231029T010000
END:STANDARD
END:VTIMEZONE
BEGIN:VEVENT
DTSTART;TZID=Europe/Berlin:20230413T201500
DTEND;TZID=Europe/Berlin:20230413T223000
DTSTAMP:20260420T083145
CREATED:20221130T145536Z
LAST-MODIFIED:20230404T142017Z
UID:2702-1681416900-1681425000@suffberlin.de
SUMMARY:just 1 place left! What is actually Natural Wine? in KREUZBERG\, English
DESCRIPTION:What&#8217;s a Pet Nat &#8211; what kind of a funny name is that anyway? &#8211; and how is it different from other sparkling wines? What really is a natural wine and who are the winemakers who choose to produce it? More than a trend\, there is a real philosophy behind natural wines. Let&#8217;s explore it in a relaxed way in Kreuzberg through a selection of natural wines from Europe. \nSuffkopp Eric \nTICKETS \nMax. 12 Teilnehmende pro Abend. Die Veranstaltungen finden ab 6 Teilnehmenden statt. Übertragung möglich. \n!! Bitte beachte\, dass im Falle einer Stornierung 14 Tage oder weniger vor der Veranstaltung keine Rückerstattung oder Umwandlung der Tickets möglich ist. Wir danken für Dein Verständnis. \n
URL:https://suffberlin.de/event/what-is-actually-natural-wine-in-kreuzberg/
LOCATION:Weinhandlung Suff\, Oranienstraße 200\, Berlin\, Berlin\, 10999\, Deutschland
END:VEVENT
END:VCALENDAR